BEGIN:VCALENDAR
VERSION:2.0
CALSCALE:GREGORIAN
PRODID:adamgibbons/ics
METHOD:PUBLISH
X-PUBLISHED-TTL:PT1H
BEGIN:VEVENT
UID:Ixru1HlAGxHgFKBZ_QPLo
SUMMARY:Delårsrapport - Q2 2026
DTSTAMP:20260422T065025Z
DTSTART:20260715T053000Z
DTEND:20260715T053000Z
END:VEVENT
END:VCALENDAR
