BEGIN:VCALENDAR
VERSION:2.0
CALSCALE:GREGORIAN
PRODID:adamgibbons/ics
METHOD:PUBLISH
X-PUBLISHED-TTL:PT1H
BEGIN:VEVENT
UID:yNGbPh35ruisWaheeBpt9
SUMMARY:Q1 report\, 2026
DTSTAMP:20260422T062038Z
DTSTART:20260422T053000Z
DTEND:20260422T053000Z
END:VEVENT
END:VCALENDAR
